BEGIN:VCALENDAR
VERSION:2.0
PRODID:-//time.you/holidays//NONSGML v1.0//EN
BEGIN:VEVENT
UID:395fe4db-dd63-4e22-8f1b-35d3ce092130
DTSTAMP:20260420T013910Z
DTSTART;VALUE=DATE:20261225
SUMMARY:Christmas Day (Syria)
END:VEVENT
END:VCALENDAR