BEGIN:VCALENDAR
VERSION:2.0
PRODID:-//time.you/holidays//NONSGML v1.0//EN
BEGIN:VEVENT
UID:eb4ee837-3973-40f8-b709-20dc339697da
DTSTAMP:20260420T132541Z
DTSTART;VALUE=DATE:20260526
SUMMARY:Eid al-Adha (estimated) (Syria)
END:VEVENT
END:VCALENDAR