BEGIN:VCALENDAR
VERSION:2.0
PRODID:-//time.you/holidays//NONSGML v1.0//EN
BEGIN:VEVENT
UID:b47bdc68-e580-42c6-a697-0cea09251fe9
DTSTAMP:20260420T084858Z
DTSTART;VALUE=DATE:20260321
SUMMARY:Eid al-Fitr (estimated); Mother's Day (Syria)
END:VEVENT
END:VCALENDAR