BEGIN:VCALENDAR
VERSION:2.0
PRODID:-//time.you/holidays//NONSGML v1.0//EN
BEGIN:VEVENT
UID:6ce2dbfc-34df-4679-bc75-707b75ec1a08
DTSTAMP:20260422T123615Z
DTSTART;VALUE=DATE:20260417
SUMMARY:Independence Day (Syria)
END:VEVENT
END:VCALENDAR