BEGIN:VCALENDAR
VERSION:2.0
PRODID:-//time.you/holidays//NONSGML v1.0//EN
BEGIN:VEVENT
UID:6de22154-d94f-4ca4-b946-a3d6e10a40af
DTSTAMP:20260421T073224Z
DTSTART;VALUE=DATE:20260501
SUMMARY:Labor Day (Syria)
END:VEVENT
END:VCALENDAR