BEGIN:VCALENDAR
VERSION:2.0
PRODID:-//time.you/holidays//NONSGML v1.0//EN
BEGIN:VEVENT
UID:2bf5cb8f-82e9-4cf5-945b-c8a015e677b0
DTSTAMP:20260420T021457Z
DTSTART;VALUE=DATE:20260506
SUMMARY:Martyrs' Day (Syria)
END:VEVENT
END:VCALENDAR