BEGIN:VCALENDAR
VERSION:2.0
PRODID:-//time.you/holidays//NONSGML v1.0//EN
BEGIN:VEVENT
UID:2e14644e-4984-48ba-ad94-bbed3a549e31
DTSTAMP:20260422T070140Z
DTSTART;VALUE=DATE:20260825
SUMMARY:Prophet's Birthday (estimated) (Syria)
END:VEVENT
END:VCALENDAR