BEGIN:VCALENDAR
VERSION:2.0
PRODID:-//time.you/holidays//NONSGML v1.0//EN
BEGIN:VEVENT
UID:1e6b0869-5571-4f1e-93e6-ed8bde788512
DTSTAMP:20260420T164250Z
DTSTART;VALUE=DATE:20260404
SUMMARY:Children's Day (Taiwan)
END:VEVENT
END:VCALENDAR