BEGIN:VCALENDAR
VERSION:2.0
PRODID:-//time.you/holidays//NONSGML v1.0//EN
BEGIN:VEVENT
UID:6ecd443e-6ea7-4d26-9cd5-4326f2aa8ee0
DTSTAMP:20260421T131109Z
DTSTART;VALUE=DATE:20260217
SUMMARY:Chinese New Year (Taiwan)
END:VEVENT
END:VCALENDAR