BEGIN:VCALENDAR
VERSION:2.0
PRODID:-//time.you/holidays//NONSGML v1.0//EN
BEGIN:VEVENT
UID:99b8473a-f8d2-48bd-a740-90c254694773
DTSTAMP:20260420T090355Z
DTSTART;VALUE=DATE:20260220
SUMMARY:Chinese New Year's Eve (observed) (Taiwan)
END:VEVENT
END:VCALENDAR