BEGIN:VCALENDAR
VERSION:2.0
PRODID:-//time.you/holidays//NONSGML v1.0//EN
BEGIN:VEVENT
UID:735c3a77-fd8b-4618-bbe9-6854022f01a6
DTSTAMP:20260422T041250Z
DTSTART;VALUE=DATE:20260215
SUMMARY:Chinese New Year's Eve (Taiwan)
END:VEVENT
END:VCALENDAR