BEGIN:VCALENDAR
VERSION:2.0
PRODID:-//time.you/holidays//NONSGML v1.0//EN
BEGIN:VEVENT
UID:0dc22a27-db41-43ef-8057-9596d876ca2b
DTSTAMP:20260421T155234Z
DTSTART;VALUE=DATE:20260928
SUMMARY:Confucius' Birthday (Taiwan)
END:VEVENT
END:VCALENDAR