BEGIN:VCALENDAR
VERSION:2.0
PRODID:-//time.you/holidays//NONSGML v1.0//EN
BEGIN:VEVENT
UID:0bfcfefd-e883-487a-8456-b0f82e11b230
DTSTAMP:20260423T233154Z
DTSTART;VALUE=DATE:20230127
SUMMARY:Day off (substituted from 02/04/2023) (Taiwan)
END:VEVENT
END:VCALENDAR