BEGIN:VCALENDAR
VERSION:2.0
PRODID:-//time.you/holidays//NONSGML v1.0//EN
BEGIN:VEVENT
UID:0cab0149-83ba-47a8-b12a-58d2caadd114
DTSTAMP:20260421T223856Z
DTSTART;VALUE=DATE:20240208
SUMMARY:Day off (substituted from 02/17/2024) (Taiwan)
END:VEVENT
END:VCALENDAR