BEGIN:VCALENDAR
VERSION:2.0
PRODID:-//time.you/holidays//NONSGML v1.0//EN
BEGIN:VEVENT
UID:bbcd7019-6d9f-4c7d-a2da-fd2dc11f63d9
DTSTAMP:20260424T164836Z
DTSTART;VALUE=DATE:20271231
SUMMARY:Founding Day of the Republic of China (observed) (Taiwan)
END:VEVENT
END:VCALENDAR