BEGIN:VCALENDAR
VERSION:2.0
PRODID:-//time.you/holidays//NONSGML v1.0//EN
BEGIN:VEVENT
UID:8ae65b04-4148-4d1d-91e3-b681ba3a3f52
DTSTAMP:20260420T175316Z
DTSTART;VALUE=DATE:20260501
SUMMARY:Labor Day (Taiwan)
END:VEVENT
END:VCALENDAR