BEGIN:VCALENDAR
VERSION:2.0
PRODID:-//time.you/holidays//NONSGML v1.0//EN
BEGIN:VEVENT
UID:99aced34-1738-4694-94ef-e173ee984e42
DTSTAMP:20260420T062527Z
DTSTART;VALUE=DATE:20290921
SUMMARY:Mid-Autumn Festival (observed) (Taiwan)
END:VEVENT
END:VCALENDAR