BEGIN:VCALENDAR
VERSION:2.0
PRODID:-//time.you/holidays//NONSGML v1.0//EN
BEGIN:VEVENT
UID:66ad2deb-3a00-4698-9bd5-3bfe98db2ddf
DTSTAMP:20260421T185628Z
DTSTART;VALUE=DATE:20261009
SUMMARY:National Day (observed) (Taiwan)
END:VEVENT
END:VCALENDAR