BEGIN:VCALENDAR
VERSION:2.0
PRODID:-//time.you/holidays//NONSGML v1.0//EN
BEGIN:VEVENT
UID:616f59fa-5fa1-47e2-9a8f-97ca703061fe
DTSTAMP:20260424T122218Z
DTSTART;VALUE=DATE:20260227
SUMMARY:Peace Memorial Day (observed) (Taiwan)
END:VEVENT
END:VCALENDAR