BEGIN:VCALENDAR
VERSION:2.0
PRODID:-//time.you/holidays//NONSGML v1.0//EN
BEGIN:VEVENT
UID:b42b23b8-c760-4b39-8789-7fd40e18589d
DTSTAMP:20260421T220829Z
DTSTART;VALUE=DATE:20260406
SUMMARY:Tomb-Sweeping Day (observed) (Taiwan)
END:VEVENT
END:VCALENDAR