BEGIN:VCALENDAR
VERSION:2.0
PRODID:-//time.you/holidays//NONSGML v1.0//EN
BEGIN:VEVENT
UID:5e94c3d8-c5aa-44de-b252-49e9f9e11f90
DTSTAMP:20260421T193739Z
DTSTART;VALUE=DATE:20260405
SUMMARY:Tomb-Sweeping Day (Taiwan)
END:VEVENT
END:VCALENDAR