BEGIN:VCALENDAR
VERSION:2.0
PRODID:-//time.you/holidays//NONSGML v1.0//EN
BEGIN:VEVENT
UID:3937c78a-63e1-4bab-aac2-99ec41ca7977
DTSTAMP:20260421T154108Z
DTSTART;VALUE=DATE:20261106
SUMMARY:Constitution Day (Tajikistan)
END:VEVENT
END:VCALENDAR