BEGIN:VCALENDAR
VERSION:2.0
PRODID:-//time.you/holidays//NONSGML v1.0//EN
BEGIN:VEVENT
UID:daf27107-210c-457b-bb97-ced899990754
DTSTAMP:20260421T205648Z
DTSTART;VALUE=DATE:20260527
SUMMARY:Eid al-Adha (estimated) (Tajikistan)
END:VEVENT
END:VCALENDAR