BEGIN:VCALENDAR
VERSION:2.0
PRODID:-//time.you/holidays//NONSGML v1.0//EN
BEGIN:VEVENT
UID:1674f516-3be1-408d-99ea-ef54cb861029
DTSTAMP:20260421T194849Z
DTSTART;VALUE=DATE:20250606
SUMMARY:Eid al-Adha (Tajikistan)
END:VEVENT
END:VCALENDAR