BEGIN:VCALENDAR
VERSION:2.0
PRODID:-//time.you/holidays//NONSGML v1.0//EN
BEGIN:VEVENT
UID:b89216d6-3992-4abb-a57b-2f69c101537c
DTSTAMP:20260421T234806Z
DTSTART;VALUE=DATE:20260909
SUMMARY:Independence Day (Tajikistan)
END:VEVENT
END:VCALENDAR