BEGIN:VCALENDAR
VERSION:2.0
PRODID:-//time.you/holidays//NONSGML v1.0//EN
BEGIN:VEVENT
UID:afd2ffe9-138a-4e5d-8a79-71a62a539fd7
DTSTAMP:20260422T070427Z
DTSTART;VALUE=DATE:20260101
SUMMARY:New Year's Day (Tajikistan)
END:VEVENT
END:VCALENDAR