BEGIN:VCALENDAR
VERSION:2.0
PRODID:-//time.you/holidays//NONSGML v1.0//EN
BEGIN:VEVENT
UID:c3c14ab0-1e63-4b29-96b3-6460429bfc44
DTSTAMP:20260420T062528Z
DTSTART;VALUE=DATE:20260707
SUMMARY:International Trade Fair (Tanzania)
END:VEVENT
END:VCALENDAR