BEGIN:VCALENDAR
VERSION:2.0
PRODID:-//time.you/holidays//NONSGML v1.0//EN
BEGIN:VEVENT
UID:ed92f8d8-d57c-40f3-872e-e752b69944a4
DTSTAMP:20260422T070842Z
DTSTART;VALUE=DATE:20220823
SUMMARY:National Population and Housing Census Day (Tanzania)
END:VEVENT
END:VCALENDAR