BEGIN:VCALENDAR
VERSION:2.0
PRODID:-//time.you/holidays//NONSGML v1.0//EN
BEGIN:VEVENT
UID:461f4dcb-9dd0-47f4-ae58-f033e56df954
DTSTAMP:20260422T070841Z
DTSTART;VALUE=DATE:20220103
SUMMARY:New Year's Day (observed) (Tanzania)
END:VEVENT
END:VCALENDAR