BEGIN:VCALENDAR
VERSION:2.0
PRODID:-//time.you/holidays//NONSGML v1.0//EN
BEGIN:VEVENT
UID:d5975daf-36e2-4b64-94d2-284dc4b08d3f
DTSTAMP:20260420T084738Z
DTSTART;VALUE=DATE:20260808
SUMMARY:Peasants' Day (Tanzania)
END:VEVENT
END:VCALENDAR