BEGIN:VCALENDAR
VERSION:2.0
PRODID:-//time.you/holidays//NONSGML v1.0//EN
BEGIN:VEVENT
UID:7eb25ed0-d5c6-4452-a6e8-4cbaf3ad9a60
DTSTAMP:20260420T113313Z
DTSTART;VALUE=DATE:20261014
SUMMARY:The Mwalimu Nyerere Day and Climax of the Uhuru Torch Race (Tanzania)
END:VEVENT
END:VCALENDAR