BEGIN:VCALENDAR
VERSION:2.0
PRODID:-//time.you/holidays//NONSGML v1.0//EN
BEGIN:VEVENT
UID:4d2b94b0-7cb1-40bc-81a1-ac6ae0d237cc
DTSTAMP:20260420T125832Z
DTSTART;VALUE=DATE:20260426
SUMMARY:Union Celebrations (Tanzania)
END:VEVENT
END:VCALENDAR