BEGIN:VCALENDAR
VERSION:2.0
PRODID:-//time.you/holidays//NONSGML v1.0//EN
BEGIN:VEVENT
UID:e375954a-8a8a-4b0f-804d-ff17aa076a82
DTSTAMP:20260421T225957Z
DTSTART;VALUE=DATE:20260102
SUMMARY:Bridge Public Holiday (Thailand)
END:VEVENT
END:VCALENDAR