BEGIN:VCALENDAR
VERSION:2.0
PRODID:-//time.you/holidays//NONSGML v1.0//EN
BEGIN:VEVENT
UID:2ead4d8c-5363-4e45-b27b-f07c0f5448d6
DTSTAMP:20260424T034254Z
DTSTART;VALUE=DATE:20291015
SUMMARY:HM King Bhumibol Adulyadej Memorial Day (in lieu) (Thailand)
END:VEVENT
END:VCALENDAR