BEGIN:VCALENDAR
VERSION:2.0
PRODID:-//time.you/holidays//NONSGML v1.0//EN
BEGIN:VEVENT
UID:447e0888-40df-40e0-8538-d90eafb8dd99
DTSTAMP:20260424T164322Z
DTSTART;VALUE=DATE:20261013
SUMMARY:HM King Bhumibol Adulyadej Memorial Day (Thailand)
END:VEVENT
END:VCALENDAR