BEGIN:VCALENDAR
VERSION:2.0
PRODID:-//time.you/holidays//NONSGML v1.0//EN
BEGIN:VEVENT
UID:4e5b84ee-5ca4-4908-bfd9-ddcb9c2827bd
DTSTAMP:20260422T090328Z
DTSTART;VALUE=DATE:20261207
SUMMARY:HM King Bhumibol Adulyadej the Great's Birthday (in lieu); National Day (in lieu); National Father's Day (in lieu) (Thailand)
END:VEVENT
END:VCALENDAR