BEGIN:VCALENDAR
VERSION:2.0
PRODID:-//time.you/holidays//NONSGML v1.0//EN
BEGIN:VEVENT
UID:1690b577-e2c4-4349-9413-a641f5dbc412
DTSTAMP:20260420T113354Z
DTSTART;VALUE=DATE:20261205
SUMMARY:HM King Bhumibol Adulyadej the Great's Birthday; National Day; National Father's Day (Thailand)
END:VEVENT
END:VCALENDAR