BEGIN:VCALENDAR
VERSION:2.0
PRODID:-//time.you/holidays//NONSGML v1.0//EN
BEGIN:VEVENT
UID:0f3231cb-0d17-489a-828e-8067103c91cf
DTSTAMP:20260419T221707Z
DTSTART;VALUE=DATE:20260812
SUMMARY:HM Queen Sirikit The Queen Mother's Birthday; National Mother's Day (Thailand)
END:VEVENT
END:VCALENDAR