BEGIN:VCALENDAR
VERSION:2.0
PRODID:-//time.you/holidays//NONSGML v1.0//EN
BEGIN:VEVENT
UID:090d1f13-a3e4-4d2a-93e6-9a48560f6a5b
DTSTAMP:20260424T215051Z
DTSTART;VALUE=DATE:20270222
SUMMARY:Makha Bucha (in lieu) (Thailand)
END:VEVENT
END:VCALENDAR