BEGIN:VCALENDAR
VERSION:2.0
PRODID:-//time.you/holidays//NONSGML v1.0//EN
BEGIN:VEVENT
UID:d11b4764-a47d-43c6-a0b9-3a4f020bc06b
DTSTAMP:20260424T034257Z
DTSTART;VALUE=DATE:20290102
SUMMARY:New Year's Eve (in lieu) (Thailand)
END:VEVENT
END:VCALENDAR