BEGIN:VCALENDAR
VERSION:2.0
PRODID:-//time.you/holidays//NONSGML v1.0//EN
BEGIN:VEVENT
UID:d069c158-3249-42a1-9fd0-9383f9fe2209
DTSTAMP:20260421T155058Z
DTSTART;VALUE=DATE:20261231
SUMMARY:New Year's Eve (Thailand)
END:VEVENT
END:VCALENDAR