BEGIN:VCALENDAR
VERSION:2.0
PRODID:-//time.you/holidays//NONSGML v1.0//EN
BEGIN:VEVENT
UID:a63ad070-1b76-4e7a-b16e-2192b97fed40
DTSTAMP:20260422T202947Z
DTSTART;VALUE=DATE:20280417
SUMMARY:Songkran Festival (in lieu) (Thailand)
END:VEVENT
END:VCALENDAR