BEGIN:VCALENDAR
VERSION:2.0
PRODID:-//time.you/holidays//NONSGML v1.0//EN
BEGIN:VEVENT
UID:8eb567aa-3ff6-4b88-b664-ec6d9ac9ce49
DTSTAMP:20260422T055130Z
DTSTART;VALUE=DATE:20261101
SUMMARY:All Saints' Day (Timor-Leste)
END:VEVENT
END:VCALENDAR