BEGIN:VCALENDAR
VERSION:2.0
PRODID:-//time.you/holidays//NONSGML v1.0//EN
BEGIN:VEVENT
UID:2e6fa626-d7b5-485f-9720-6d47f8ed95c2
DTSTAMP:20260419T220511Z
DTSTART;VALUE=DATE:20261225
SUMMARY:Christmas Day (Timor-Leste)
END:VEVENT
END:VCALENDAR