BEGIN:VCALENDAR
VERSION:2.0
PRODID:-//time.you/holidays//NONSGML v1.0//EN
BEGIN:VEVENT
UID:f8de3d3d-f9fb-493d-b82a-ac9fc955441f
DTSTAMP:20260420T035323Z
DTSTART;VALUE=DATE:20260604
SUMMARY:Corpus Christi (Timor-Leste)
END:VEVENT
END:VCALENDAR