BEGIN:VCALENDAR
VERSION:2.0
PRODID:-//time.you/holidays//NONSGML v1.0//EN
BEGIN:VEVENT
UID:87e2b7db-e584-4218-9237-ee7ed21911d1
DTSTAMP:20260424T233625Z
DTSTART;VALUE=DATE:20260501
SUMMARY:International Worker's Day (Timor-Leste)
END:VEVENT
END:VCALENDAR