BEGIN:VCALENDAR
VERSION:2.0
PRODID:-//time.you/holidays//NONSGML v1.0//EN
BEGIN:VEVENT
UID:af59e825-8f59-4742-8b20-1008a8187f34
DTSTAMP:20260424T200827Z
DTSTART;VALUE=DATE:20261207
SUMMARY:Memorial Day (Timor-Leste)
END:VEVENT
END:VCALENDAR