BEGIN:VCALENDAR
VERSION:2.0
PRODID:-//time.you/holidays//NONSGML v1.0//EN
BEGIN:VEVENT
UID:fde0d0ed-343e-4ed9-8750-d903ac16a8b2
DTSTAMP:20260421T235109Z
DTSTART;VALUE=DATE:20261101
SUMMARY:All Saints' Day (Togo)
END:VEVENT
END:VCALENDAR