BEGIN:VCALENDAR
VERSION:2.0
PRODID:-//time.you/holidays//NONSGML v1.0//EN
BEGIN:VEVENT
UID:fba157be-d0a8-4b95-909e-a87fd02739f6
DTSTAMP:20260421T223152Z
DTSTART;VALUE=DATE:20261225
SUMMARY:Christmas Day (Togo)
END:VEVENT
END:VCALENDAR