BEGIN:VCALENDAR
VERSION:2.0
PRODID:-//time.you/holidays//NONSGML v1.0//EN
BEGIN:VEVENT
UID:e7ebf28b-9389-4734-9740-a168fc04f6a3
DTSTAMP:20260423T135450Z
DTSTART;VALUE=DATE:20260406
SUMMARY:Easter Monday (Togo)
END:VEVENT
END:VCALENDAR